BEGIN:VCALENDAR
VERSION:2.0
PRODID:-//Les Echecs de Vincennes - ECPv6.8.2.1//NONSGML v1.0//EN
CALSCALE:GREGORIAN
METHOD:PUBLISH
X-WR-CALNAME:Les Echecs de Vincennes
X-ORIGINAL-URL:https://club-echecs-vincennes.fr
X-WR-CALDESC:Events for Les Echecs de Vincennes
REFRESH-INTERVAL;VALUE=DURATION:PT1H
X-Robots-Tag:noindex
X-PUBLISHED-TTL:PT1H
BEGIN:VTIMEZONE
TZID:Europe/Paris
BEGIN:DAYLIGHT
TZOFFSETFROM:+0100
TZOFFSETTO:+0200
TZNAME:CEST
DTSTART:20240331T010000
END:DAYLIGHT
BEGIN:STANDARD
TZOFFSETFROM:+0200
TZOFFSETTO:+0100
TZNAME:CET
DTSTART:20241027T010000
END:STANDARD
END:VTIMEZONE
BEGIN:VEVENT
DTSTART;TZID=Europe/Paris:20241215T141500
DTEND;TZID=Europe/Paris:20241215T171500
DTSTAMP:20260421T135551
CREATED:20241211T223504Z
LAST-MODIFIED:20241211T223504Z
UID:6385-1734272100-1734282900@club-echecs-vincennes.fr
SUMMARY:N4J V3 Creteil 5 contre Vincennes 3 à Creteil 5
DESCRIPTION:
URL:https://club-echecs-vincennes.fr/event/n4j-v3-creteil-5-contre-vincennes-3-a-creteil-5/
CATEGORIES:Interclub
END:VEVENT
BEGIN:VEVENT
DTSTART;TZID=Europe/Paris:20241215T141500
DTEND;TZID=Europe/Paris:20241215T171500
DTSTAMP:20260421T135551
CREATED:20241211T223504Z
LAST-MODIFIED:20241211T223504Z
UID:6384-1734272100-1734282900@club-echecs-vincennes.fr
SUMMARY:CAVF Vincennes Cavalier contre Maisons Alfort Cavalier à Vincennes Cavalier
DESCRIPTION:
URL:https://club-echecs-vincennes.fr/event/cavf-vincennes-cavalier-contre-maisons-alfort-cavalier-a-vincennes-cavalier/
CATEGORIES:Criterium
END:VEVENT
BEGIN:VEVENT
DTSTART;TZID=Europe/Paris:20241215T140000
DTEND;TZID=Europe/Paris:20241215T180000
DTSTAMP:20260421T135551
CREATED:20241211T223504Z
LAST-MODIFIED:20241216T214647Z
UID:6382-1734271200-1734285600@club-echecs-vincennes.fr
SUMMARY:N3J Montreuil II contre Vincennes II à Montreuil II
DESCRIPTION:
URL:https://club-echecs-vincennes.fr/event/n3j-montreuil-ii-contre-vincennes-ii-a-montreuil-ii/
CATEGORIES:Interclub
END:VEVENT
BEGIN:VEVENT
DTSTART;TZID=Europe/Paris:20241215T140000
DTEND;TZID=Europe/Paris:20241215T170000
DTSTAMP:20260421T135551
CREATED:20241211T223504Z
LAST-MODIFIED:20241211T223504Z
UID:6383-1734271200-1734282000@club-echecs-vincennes.fr
SUMMARY:N1J Vincennes contre Nomad'Echecs II à Vincennes
DESCRIPTION:
URL:https://club-echecs-vincennes.fr/event/n1j-vincennes-contre-nomadechecs-ii-a-vincennes/
CATEGORIES:Interclub
END:VEVENT
BEGIN:VEVENT
DTSTART;TZID=Europe/Paris:20241214T000000
DTEND;TZID=Europe/Paris:20241214T000000
DTSTAMP:20260421T135551
CREATED:20241211T224534Z
LAST-MODIFIED:20241211T224534Z
UID:6545-1734134400-1734134400@club-echecs-vincennes.fr
SUMMARY:Grand prix rapide du VDM à Créteil
DESCRIPTION:
URL:https://club-echecs-vincennes.fr/event/grand-prix-rapide-du-vdm-a-creteil/
CATEGORIES:Tournois
END:VEVENT
BEGIN:VEVENT
DTSTART;TZID=Europe/Paris:20241110T100000
DTEND;TZID=Europe/Paris:20241110T183000
DTSTAMP:20260421T135551
CREATED:20241124T130611Z
LAST-MODIFIED:20241211T224644Z
UID:6308-1731232800-1731263400@club-echecs-vincennes.fr
SUMMARY:Qualification jeunes du Val de Marne
DESCRIPTION:
URL:https://club-echecs-vincennes.fr/event/qualification-jeunes-du-val-de-marne/
CATEGORIES:Tournois
END:VEVENT
END:VCALENDAR